BEGIN:VCALENDAR
VERSION:2.0
PRODID:-//Tukios.com/
BEGIN:VEVENT
UID:70431412-5602-4a03-9003-82edb2391f9e@www.olsonfuneralhome.info
DTSTAMP:20260423T212927Z
DTSTART:20260428T160000Z
DTEND:20260428T170000Z
SUMMARY:Mass
DESCRIPTION:
URL:https://www.olsonfuneralhome.info/obituaries/diane-lenz
LOCATION:St. John Evangelist Catholic Parish 601 Valley Road  Kohler WI 
	53044
GEO:43.7352594;-87.7896422
END:VEVENT
END:VCALENDAR